BEGIN:VCALENDAR
VERSION:2.0
PRODID:Events Booking
BEGIN:VEVENT
UID:69e7a98dc0f89
SUMMARY:NLP Practitioner Certification Training Coaching Focus July 2027
DESCRIPTION:
DTSTART:20270705T153000Z
DTEND:20270730T182500Z
DTSTAMP:20260421T164501Z
ORGANIZER;CN=Anil Dagia:MAILTO:info@anildagia.com
END:VEVENT
END:VCALENDAR